BEGIN:VCALENDAR
VERSION:2.0
PRODID:-//Thrifty Bootique LLC - ECPv6.15.18//NONSGML v1.0//EN
CALSCALE:GREGORIAN
METHOD:PUBLISH
X-ORIGINAL-URL:https://thriftybootique.com
X-WR-CALDESC:Events for Thrifty Bootique LLC
REFRESH-INTERVAL;VALUE=DURATION:PT1H
X-Robots-Tag:noindex
X-PUBLISHED-TTL:PT1H
BEGIN:VTIMEZONE
TZID:UTC
BEGIN:STANDARD
TZOFFSETFROM:+0000
TZOFFSETTO:+0000
TZNAME:UTC
DTSTART:20240101T000000
END:STANDARD
END:VTIMEZONE
BEGIN:VEVENT
DTSTART;TZID=UTC:20251229T000000
DTEND;TZID=UTC:20260102T235900
DTSTAMP:20260418T211412
CREATED:20251229T181901Z
LAST-MODIFIED:20251229T182623Z
UID:3016-1766966400-1767398340@thriftybootique.com
SUMMARY:Store Closed for Holiday Vacation
DESCRIPTION:The store will be closed for some much-needed vacation starting Monday\, December 29\, 2025\, and will reopen on Saturday\, January 3\, 2026. We look forward to seeing you in the new year!
URL:https://thriftybootique.com/event/store-holiday-closure/
LOCATION:NH
END:VEVENT
BEGIN:VEVENT
DTSTART;TZID=UTC:20260108T180000
DTEND;TZID=UTC:20260108T200000
DTSTAMP:20260418T211412
CREATED:20251229T173844Z
LAST-MODIFIED:20260105T164518Z
UID:3006-1767895200-1767902400@thriftybootique.com
SUMMARY:Intro to Sashiko Stitching
DESCRIPTION:Ready to try your hand at a beautiful\, sustainable craft? Join us for “Intro to Sashiko Stitching\,” a hands-on embroidery class at Thrifty Bootique—perfect for beginners or anyone curious about Japanese hand-stitching\, visible mending\, or slow fashion! \nLocal fiber artist\, Erin Clayton\, will guide you through four classic Sashiko stitch patterns (two simple\, two more intricate) and share the tradition and joy behind this centuries-old Japanese technique. Erin is known for her welcoming teaching style and ability to help every skill level feel at home. \nAll supplies are included—just bring your curiosity! This creative workshop is ideal whether you’re new to embroidery\, want to upgrade your mending skills\, or simply want to learn something new in a friendly\, supportive setting. The $45 class fee covers everything\, and space is limited. \nSecure your spot today and discover the art of Sashiko stitching at Thrifty Bootique. We can’t wait for you to stitch your story with us!
URL:https://thriftybootique.com/event/intro-to-sashiko-stitching-3/
LOCATION:NH
END:VEVENT
BEGIN:VEVENT
DTSTART;TZID=UTC:20260114T180000
DTEND;TZID=UTC:20260114T200000
DTSTAMP:20260418T211412
CREATED:20250715T221343Z
LAST-MODIFIED:20260105T163941Z
UID:2578-1768413600-1768420800@thriftybootique.com
SUMMARY:Demystifying the Sewing Machine
DESCRIPTION:Demystifying the Sewing Machine ($35) Feel free to bring your sewing machine from home. We have 3 machines available on a first come/first serve basis.
URL:https://thriftybootique.com/event/demystifying-the-sewing-machine/
LOCATION:Thrifty Bootique\, 652 Central Avenue\, Dover\, NH\, 03820
END:VEVENT
BEGIN:VEVENT
DTSTART;TZID=UTC:20260115T180000
DTEND;TZID=UTC:20260115T200000
DTSTAMP:20260418T211412
CREATED:20251229T174132Z
LAST-MODIFIED:20251229T174158Z
UID:3010-1768500000-1768507200@thriftybootique.com
SUMMARY:Mending Night
DESCRIPTION:Bring your favorite well-loved clothes and join us for Free Mending Night at Thrifty Bootique! Happening every 1st and 3rd Thursday\, this friendly community event lets you give new life to your wardrobe while connecting with fellow makers and menders in Dover\, NH. \nNo experience needed—just bring clothing in need of a little TLC. We provide some basic supplies\, encouragement\, and plenty of inspiration to help you patch\, repair\, or even creatively upcycle garments. It’s a great way to learn visible mending\, keep textiles out of the landfill\, and extend the life of your favorite pieces. \nJoin us and help build a community that cares for clothes\, values sustainability\, and celebrates creativity. We can’t wait to meet you at Mending Night!
URL:https://thriftybootique.com/event/mending-night-4/
LOCATION:Thrifty Bootique\, 652 Central Avenue\, Dover\, NH\, 03820
ATTACH;FMTTYPE=image/jpeg:https://thriftybootique.com/wp-content/uploads/2025/11/elio-santos-5ZQn_gWKvLE-unsplash-scaled.jpg
END:VEVENT
BEGIN:VEVENT
DTSTART;TZID=UTC:20260124T110000
DTEND;TZID=UTC:20260124T140000
DTSTAMP:20260418T211412
CREATED:20260105T163739Z
LAST-MODIFIED:20260105T164431Z
UID:3043-1769252400-1769263200@thriftybootique.com
SUMMARY:Create Your 2026 Vision Board
DESCRIPTION:Set a course for your year with our Free\, Drop-In: Create Your 2026 Vision Board event. Vision boards are a simple\, creative way to clarify goals\, dreams\, and next steps.​ Bring your hopes for 2026 and turn them into something you can see and touch.​ \n\nWe’ll provide supplies\, but you’re also welcome to bring any photos\, words\, or materials that hold meaning for you. Join us on Saturday\, January 24\, from 11:00 a.m. to 2:00 p.m. and enjoy an easygoing\, come-as-you-are afternoon of cutting\, pasting\, and planning what’s next.
URL:https://thriftybootique.com/event/create-your-2026-vision-board/
LOCATION:Thrifty Bootique\, 652 Central Avenue\, Dover\, NH\, 03820
END:VEVENT
BEGIN:VEVENT
DTSTART;TZID=UTC:20260129T180000
DTEND;TZID=UTC:20260129T200000
DTSTAMP:20260418T211412
CREATED:20251229T190817Z
LAST-MODIFIED:20251229T190846Z
UID:3021-1769709600-1769716800@thriftybootique.com
SUMMARY:Visible Mending Basics for Garments at The Thrifty Bootique – Dover\, NH
DESCRIPTION:Join us for a visible mending class in Dover\, NH designed for adults who already know the basics of sashiko and want to use those stitches for real garment repairs. This Level 2 workshop at The Thrifty Bootique focuses on visible mending for denim and woven garments\, making it a great next step after an Intro to Sashiko class or for anyone who has learned sashiko on their own.​ \nDuring this two-hour visible mending class\, you’ll work on fabric samples (not personal garments) as you: \n\n\nLearn a simple process for reinforcing worn or damaged areas before they tear \n\n\nPractice marking on different types of fabric and handling thicker materials like denim \n\n\nExplore strategies for deciding how to patch\, stabilize\, and stitch a new mend​ \n\n\nThis small-group workshop (maximum of 5 students) emphasizes sustainability\, slow fashion\, and intentional repair\, helping you extend the life of your clothing while adding personal\, decorative stitching. If you’re searching for a “visible mending class Dover NH” or a sashiko-inspired slow fashion workshop\, this class is designed for you.​ \n\n\nDate: Thursday\, January 29 \n\n\nTime: 6–8 pm \n\n\nLocation: The Thrifty Bootique\, Dover\, NH \n\n\nLevel: Adult\, Level 2 / follow-up to Intro to Sashiko (not for absolute beginners) \n\n\nCost: $45 | All supplies included \n\n\nClass size: Limited to 5 students \n\n\nRegistration: Sign up below or register in person at the shop to secure your spot in this visible mending workshop in Dover\, NH.​
URL:https://thriftybootique.com/event/visible-mending-basics-for-garments-at-the-thrifty-bootique-dover-nh/
LOCATION:NH
END:VEVENT
END:VCALENDAR